BEGIN:VCALENDAR
VERSION:2.0
PRODID:-//Scouting America Troop 77 Geneva - ECPv5.14.0.1//NONSGML v1.0//EN
CALSCALE:GREGORIAN
METHOD:PUBLISH
X-WR-CALNAME:Scouting America Troop 77 Geneva
X-ORIGINAL-URL:https://troop77geneva.org
X-WR-CALDESC:Events for Scouting America Troop 77 Geneva
BEGIN:VTIMEZONE
TZID:Europe/Zurich
BEGIN:DAYLIGHT
TZOFFSETFROM:+0100
TZOFFSETTO:+0200
TZNAME:CEST
DTSTART:20230326T010000
END:DAYLIGHT
BEGIN:STANDARD
TZOFFSETFROM:+0200
TZOFFSETTO:+0100
TZNAME:CET
DTSTART:20231029T010000
END:STANDARD
END:VTIMEZONE
BEGIN:VEVENT
DTSTART;TZID=Europe/Zurich:20230905T190000
DTEND;TZID=Europe/Zurich:20230905T203000
DTSTAMP:20260422T175423
CREATED:20230824T073530Z
LAST-MODIFIED:20230824T073530Z
UID:30426-1693940400-1693945800@troop77geneva.org
SUMMARY:Troop Meeting - 001
DESCRIPTION:First Troop Meeting of the Scouting Year.
URL:https://troop77geneva.org/event/troop-meeting-001/
LOCATION:Collège du Leman\, Route de Sauverny 74\, Versoix\, 1290\, Switzerland
END:VEVENT
END:VCALENDAR