BEGIN:VCALENDAR
VERSION:2.0
PRODID:-//Scouting America Troop 77 Geneva - ECPv5.14.0.1//NONSGML v1.0//EN
CALSCALE:GREGORIAN
METHOD:PUBLISH
X-WR-CALNAME:Scouting America Troop 77 Geneva
X-ORIGINAL-URL:https://troop77geneva.org
X-WR-CALDESC:Events for Scouting America Troop 77 Geneva
BEGIN:VTIMEZONE
TZID:Europe/Zurich
BEGIN:DAYLIGHT
TZOFFSETFROM:+0100
TZOFFSETTO:+0200
TZNAME:CEST
DTSTART:20230326T010000
END:DAYLIGHT
BEGIN:STANDARD
TZOFFSETFROM:+0200
TZOFFSETTO:+0100
TZNAME:CET
DTSTART:20231029T010000
END:STANDARD
END:VTIMEZONE
BEGIN:VEVENT
DTSTART;TZID=Europe/Zurich:20231128T190000
DTEND;TZID=Europe/Zurich:20231128T203000
DTSTAMP:20260422T175259
CREATED:20230908T130236Z
LAST-MODIFIED:20231129T141938Z
UID:30549-1701198000-1701203400@troop77geneva.org
SUMMARY:CoH Planning Meeting
DESCRIPTION:
URL:https://troop77geneva.org/event/plc-28112023/
LOCATION:Collège du Leman\, Route de Sauverny 74\, Versoix\, 1290\, Switzerland
END:VEVENT
END:VCALENDAR