BEGIN:VCALENDAR
VERSION:2.0
PRODID:-//Scouting America Troop 77 Geneva - ECPv5.14.0.1//NONSGML v1.0//EN
CALSCALE:GREGORIAN
METHOD:PUBLISH
X-WR-CALNAME:Scouting America Troop 77 Geneva
X-ORIGINAL-URL:https://troop77geneva.org
X-WR-CALDESC:Events for Scouting America Troop 77 Geneva
BEGIN:VTIMEZONE
TZID:Europe/Zurich
BEGIN:DAYLIGHT
TZOFFSETFROM:+0100
TZOFFSETTO:+0200
TZNAME:CEST
DTSTART:20220327T010000
END:DAYLIGHT
BEGIN:STANDARD
TZOFFSETFROM:+0200
TZOFFSETTO:+0100
TZNAME:CET
DTSTART:20221030T010000
END:STANDARD
END:VTIMEZONE
BEGIN:VEVENT
DTSTART;TZID=Europe/Zurich:20220903T094500
DTEND;TZID=Europe/Zurich:20220903T130000
DTSTAMP:20260422T204226
CREATED:20220911T125952Z
LAST-MODIFIED:20220911T125952Z
UID:30334-1662198300-1662210000@troop77geneva.org
SUMMARY:Kick-off hike & Parents Orientation  (Villa Rose Prangins & Toblerones Hike)
DESCRIPTION:
URL:https://troop77geneva.org/event/kick-off-hike-parents-orientation-villa-rose-prangins-toblerones-hike/
END:VEVENT
END:VCALENDAR