BEGIN:VCALENDAR
VERSION:2.0
PRODID:-//Scouting America Troop 77 Geneva - ECPv5.14.0.1//NONSGML v1.0//EN
CALSCALE:GREGORIAN
METHOD:PUBLISH
X-WR-CALNAME:Scouting America Troop 77 Geneva
X-ORIGINAL-URL:https://troop77geneva.org
X-WR-CALDESC:Events for Scouting America Troop 77 Geneva
BEGIN:VTIMEZONE
TZID:Europe/Zurich
BEGIN:DAYLIGHT
TZOFFSETFROM:+0100
TZOFFSETTO:+0200
TZNAME:CEST
DTSTART:20250330T010000
END:DAYLIGHT
BEGIN:STANDARD
TZOFFSETFROM:+0200
TZOFFSETTO:+0100
TZNAME:CET
DTSTART:20251026T010000
END:STANDARD
END:VTIMEZONE
BEGIN:VEVENT
DTSTART;TZID=Europe/Zurich:20250613T190000
DTEND;TZID=Europe/Zurich:20250613T190000
DTSTAMP:20260422T164037
CREATED:20250604T062333Z
LAST-MODIFIED:20250604T062333Z
UID:31105-1749841200-1749841200@troop77geneva.org
SUMMARY:Court of Honour & Eagle Award Ceremony
DESCRIPTION:Parents\, Family\, Friends\, past Eagle scouts\, parishioners of Emmanuel Episcopal Church\, \nYou are cordially invited to Troop 77 Geneva’s June 2025 Court of Honour\, recognising the achievements of our scouts since December 2024. \nScouts will be honoured with their ranks\, merit badges and other awards. \nExtra this time is the awarding of the highest rank of Eagle to three of our long-time scouts\, Sebastien\, Natalie\, and Torsten. \nTorsten and Sebastien have been scouting together since their time in Webelos/AoL Den 4\, with Pack 130 Geneva.  Natalie joined our Troop when she moved to the Geneva area and is only the second girl in our troop to achieve this esteemed rank. \n 
URL:https://troop77geneva.org/event/court-of-honour-eagle-award-ceremony/
LOCATION:Emmanuel Church\, Rue de Monthoux 3\, Geneva\, GE\, 1201\, Switzerland
CATEGORIES:Court of Honour
END:VEVENT
END:VCALENDAR