BEGIN:VCALENDAR
VERSION:2.0
PRODID:-//Scouting America Troop 77 Geneva - ECPv5.14.0.1//NONSGML v1.0//EN
CALSCALE:GREGORIAN
METHOD:PUBLISH
X-WR-CALNAME:Scouting America Troop 77 Geneva
X-ORIGINAL-URL:https://troop77geneva.org
X-WR-CALDESC:Events for Scouting America Troop 77 Geneva
BEGIN:VTIMEZONE
TZID:Europe/Zurich
BEGIN:DAYLIGHT
TZOFFSETFROM:+0100
TZOFFSETTO:+0200
TZNAME:CEST
DTSTART:20220327T010000
END:DAYLIGHT
BEGIN:STANDARD
TZOFFSETFROM:+0200
TZOFFSETTO:+0100
TZNAME:CET
DTSTART:20221030T010000
END:STANDARD
END:VTIMEZONE
BEGIN:VEVENT
DTSTART;TZID=Europe/Zurich:20220909T170000
DTEND;TZID=Europe/Zurich:20220911T170000
DTSTAMP:20260422T204214
CREATED:20220911T130229Z
LAST-MODIFIED:20220911T130229Z
UID:30338-1662742800-1662915600@troop77geneva.org
SUMMARY:Ardèche Kayak Trip
DESCRIPTION:
URL:https://troop77geneva.org/event/ardeche-kayak-trip/
LOCATION:Camping Huttopia St-Martin d’Ardèche\, Quartier du Moulin\, St-Martin d'Ardèche\, 07700\, France
END:VEVENT
END:VCALENDAR